BEGIN:VCALENDAR
VERSION:2.0
PRODID:-//Plone.org//NONSGML plone.app.event//EN
X-WR-TIMEZONE:Europe/Rome
BEGIN:VEVENT
SUMMARY:Young Researchers Retreat​
DTSTART;TZID=Europe/Rome;VALUE=DATE-TIME:20240625T090000
DTEND;TZID=Europe/Rome;VALUE=DATE-TIME:20240626T180000
DTSTAMP;VALUE=DATE-TIME:20260422T185133Z
UID:7cbde7714b044303be76aad51c7dd871@fabit.unibo.it
CREATED;VALUE=DATE-TIME:20240221T170819Z
DESCRIPTION:More than 100 scientific presentations will be delivered by po
 st-doctoral fellows\, residents and young researchers in a multidisciplina
 ry and dynamic context.
LAST-MODIFIED;VALUE=DATE-TIME:20240624T134626Z
URL:https://fabit.unibo.it/it/eventi/young-researchers-retreat-2526
END:VEVENT
BEGIN:VTIMEZONE
TZID:Europe/Rome
X-LIC-LOCATION:Europe/Rome
BEGIN:DAYLIGHT
DTSTART;VALUE=DATE-TIME:20240331T030000
TZNAME:CEST
TZOFFSETFROM:+0100
TZOFFSETTO:+0200
END:DAYLIGHT
END:VTIMEZONE
END:VCALENDAR
