BEGIN:VCALENDAR
VERSION:2.0
PRODID:-//Plone.org//NONSGML plone.app.event//EN
X-WR-TIMEZONE:Europe/Rome
BEGIN:VEVENT
SUMMARY:XXIII Giornata della Chimica dell’Emilia Romagna 2024
DTSTART;TZID=Europe/Rome;VALUE=DATE-TIME:20241219T083000
DTEND;TZID=Europe/Rome;VALUE=DATE-TIME:20241219T174000
DTSTAMP;VALUE=DATE-TIME:20260425T131033Z
UID:babc5572dc4f4ed4907dcd654502d6b6@fabit.unibo.it
CREATED;VALUE=DATE-TIME:20241112T082108Z
DESCRIPTION:La Società Chimica Italiana (SCI-ER) organizza anche quest'an
 no la Giornata della Chimica dell'Emilia Romagna\, giunta alla sua XXIII e
 dizione.
LAST-MODIFIED;VALUE=DATE-TIME:20241112T082536Z
URL:https://fabit.unibo.it/it/eventi/xxiii-giornata-della-chimica-dell-emi
 lia-romagna-2024
END:VEVENT
BEGIN:VTIMEZONE
TZID:Europe/Rome
X-LIC-LOCATION:Europe/Rome
BEGIN:STANDARD
DTSTART;VALUE=DATE-TIME:20241027T020000
TZNAME:CET
TZOFFSETFROM:+0200
TZOFFSETTO:+0100
END:STANDARD
END:VTIMEZONE
END:VCALENDAR
