BEGIN:VCALENDAR
VERSION:2.0
PRODID:-//Plone.org//NONSGML plone.app.event//EN
X-WR-TIMEZONE:Europe/Rome
BEGIN:VEVENT
SUMMARY:XVIII International Parvovirus Workshop
DTSTART;TZID=Europe/Rome;VALUE=DATE-TIME:20210608T000000
DTEND;TZID=Europe/Rome;VALUE=DATE-TIME:20210611T000000
DTSTAMP;VALUE=DATE-TIME:20260425T214820Z
UID:81258eed22d44b78a626df985c59acf7@fabit.unibo.it
CREATED;VALUE=DATE-TIME:20200211T112334Z
LAST-MODIFIED;VALUE=DATE-TIME:20200409T130323Z
URL:https://fabit.unibo.it/it/eventi/xviii-international-parvovirus-worksh
 op
END:VEVENT
BEGIN:VTIMEZONE
TZID:Europe/Rome
X-LIC-LOCATION:Europe/Rome
BEGIN:DAYLIGHT
DTSTART;VALUE=DATE-TIME:20210328T030000
TZNAME:CEST
TZOFFSETFROM:+0100
TZOFFSETTO:+0200
END:DAYLIGHT
END:VTIMEZONE
END:VCALENDAR
