BEGIN:VCALENDAR
VERSION:2.0
PRODID:-//Plone.org//NONSGML plone.app.event//EN
X-WR-TIMEZONE:Europe/Rome
BEGIN:VEVENT
SUMMARY:Webinar MASTFORCHEM 'NMR e LC-MS/MS: recenti applicazioni forensi 
 e prospettive future'
DTSTART;TZID=Europe/Rome;VALUE=DATE-TIME:20220714T150000
DTEND;TZID=Europe/Rome;VALUE=DATE-TIME:20220714T173000
DTSTAMP;VALUE=DATE-TIME:20260420T144449Z
UID:6cb9f3b864a946899c11c70eea155259@fabit.unibo.it
CREATED;VALUE=DATE-TIME:20220705T153919Z
DESCRIPTION:Master di II livello in “ANALISI CHIMICHE E CHIMICO-TOSSICOL
 OGICHE FORENSI”
LAST-MODIFIED;VALUE=DATE-TIME:20220705T154133Z
URL:https://fabit.unibo.it/it/eventi/webinar-mastforchem-nmr-e-lc-ms-ms-re
 centi-applicazioni-forensi-e-prospettive-future
END:VEVENT
BEGIN:VTIMEZONE
TZID:Europe/Rome
X-LIC-LOCATION:Europe/Rome
BEGIN:DAYLIGHT
DTSTART;VALUE=DATE-TIME:20220327T030000
TZNAME:CEST
TZOFFSETFROM:+0100
TZOFFSETTO:+0200
END:DAYLIGHT
END:VTIMEZONE
END:VCALENDAR
