BEGIN:VCALENDAR
VERSION:2.0
PRODID:-//Plone.org//NONSGML plone.app.event//EN
X-WR-TIMEZONE:Europe/Rome
BEGIN:VEVENT
SUMMARY:ANTI-DOPING: INNOVAZIONE E PROSPETTIVE
DTSTART;TZID=Europe/Rome;VALUE=DATE-TIME:20210508T090000
DTEND;TZID=Europe/Rome;VALUE=DATE-TIME:20210508T180000
DTSTAMP;VALUE=DATE-TIME:20260420T213002Z
UID:6c7f339e365f47be919fa17533d1115d@fabit.unibo.it
CREATED;VALUE=DATE-TIME:20210506T160335Z
DESCRIPTION:MASTER DI II LIVELLO IN “ANALISI CHIMICHE E CHIMICO-TOSSICOL
 OGICHE FORENSI” DIPARTIMENTO DI FARMACIA E BIOTECNOLOGIE
LAST-MODIFIED;VALUE=DATE-TIME:20210506T160827Z
URL:https://fabit.unibo.it/it/eventi/webinar-anti-doping-innovazione-e-pro
 spettive
END:VEVENT
BEGIN:VTIMEZONE
TZID:Europe/Rome
X-LIC-LOCATION:Europe/Rome
BEGIN:DAYLIGHT
DTSTART;VALUE=DATE-TIME:20210328T030000
TZNAME:CEST
TZOFFSETFROM:+0100
TZOFFSETTO:+0200
END:DAYLIGHT
END:VTIMEZONE
END:VCALENDAR
