BEGIN:VCALENDAR
VERSION:2.0
PRODID:-//Plone.org//NONSGML plone.app.event//EN
X-WR-TIMEZONE:Europe/Rome
BEGIN:VEVENT
SUMMARY:Uncover the hidden complexities of biology with single cell and sp
 atial solutions
DTSTART;TZID=Europe/Rome;VALUE=DATE-TIME:20220412T143000
DTEND;TZID=Europe/Rome;VALUE=DATE-TIME:20220412T163000
DTSTAMP;VALUE=DATE-TIME:20260420T202955Z
UID:70a5f902a2534fc299c68e84b5520c96@fabit.unibo.it
CREATED;VALUE=DATE-TIME:20220330T144222Z
DESCRIPTION:Presentazione della tecnologia Visium di 10x (Science and Tech
 nical Advisor 10x Genomics)\, per la valutazione dell'espressione genica i
 n un tessuto.
LAST-MODIFIED;VALUE=DATE-TIME:20220330T144819Z
URL:https://fabit.unibo.it/it/eventi/uncover-the-hidden-complexities-of-bi
 ology-with-single-cell-and-spatial-solutions
END:VEVENT
BEGIN:VTIMEZONE
TZID:Europe/Rome
X-LIC-LOCATION:Europe/Rome
BEGIN:DAYLIGHT
DTSTART;VALUE=DATE-TIME:20220327T030000
TZNAME:CEST
TZOFFSETFROM:+0100
TZOFFSETTO:+0200
END:DAYLIGHT
END:VTIMEZONE
END:VCALENDAR
