BEGIN:VCALENDAR
VERSION:2.0
PRODID:-//Plone.org//NONSGML plone.app.event//EN
X-WR-TIMEZONE:Europe/Rome
BEGIN:VEVENT
SUMMARY:SEMINARIO “YOUNG RESEARCHER CORNER” - Dott. Formaggio
DTSTART;TZID=Europe/Rome;VALUE=DATE-TIME:20200221T143000
DTEND;TZID=Europe/Rome;VALUE=DATE-TIME:20200221T153000
DTSTAMP;VALUE=DATE-TIME:20260425T214820Z
UID:ade3e52b381f420c93c47cb81676be18@fabit.unibo.it
CREATED;VALUE=DATE-TIME:20200127T133728Z
DESCRIPTION:Titolo del seminario:\nELETTROFISIOLOGIA CELLULARE E LIVE CELL
 \nIMAGING: STRUMENTI PER LA RICERCA IN\nNEUROBIOLOGIA
LAST-MODIFIED;VALUE=DATE-TIME:20200127T134138Z
URL:https://fabit.unibo.it/it/eventi/seminario-young-researcher-corner-dot
 t-formaggio
END:VEVENT
BEGIN:VTIMEZONE
TZID:Europe/Rome
X-LIC-LOCATION:Europe/Rome
BEGIN:STANDARD
DTSTART;VALUE=DATE-TIME:20191027T020000
TZNAME:CET
TZOFFSETFROM:+0200
TZOFFSETTO:+0100
END:STANDARD
END:VTIMEZONE
END:VCALENDAR
