BEGIN:VCALENDAR
VERSION:2.0
PRODID:-//Plone.org//NONSGML plone.app.event//EN
X-WR-TIMEZONE:Europe/Rome
BEGIN:VEVENT
SUMMARY:PER L'EMERGENZA CORONAVIRUS ANNULLAMENTO DEL SEMINARIO DR. ISABELL
 E MICHAUD-SORET
DTSTART;TZID=Europe/Rome;VALUE=DATE-TIME:20200306T143000
DTEND;TZID=Europe/Rome;VALUE=DATE-TIME:20200306T160000
DTSTAMP;VALUE=DATE-TIME:20260425T224053Z
UID:86f89ea3189244fda200414ba35fa5c8@fabit.unibo.it
CREATED;VALUE=DATE-TIME:20200218T143818Z
DESCRIPTION:Titolo del seminario:"FUR METALLOREGULATOR\, THE STORY OF AN I
 RON RESPONDING TRANSCRIPTION FACTOR"
LAST-MODIFIED;VALUE=DATE-TIME:20200302T094157Z
URL:https://fabit.unibo.it/it/eventi/seminario-dr-isabelle-michaud-soret
END:VEVENT
BEGIN:VTIMEZONE
TZID:Europe/Rome
X-LIC-LOCATION:Europe/Rome
BEGIN:STANDARD
DTSTART;VALUE=DATE-TIME:20191027T020000
TZNAME:CET
TZOFFSETFROM:+0200
TZOFFSETTO:+0100
END:STANDARD
END:VTIMEZONE
END:VCALENDAR
