BEGIN:VCALENDAR
VERSION:2.0
PRODID:-//Plone.org//NONSGML plone.app.event//EN
X-WR-TIMEZONE:Europe/Rome
BEGIN:VEVENT
SUMMARY:Presentazione Corso di Formazione Permanente a.a. 2019-2020
DTSTART;TZID=Europe/Rome;VALUE=DATE-TIME:20191219T100000
DTEND;TZID=Europe/Rome;VALUE=DATE-TIME:20191219T123000
DTSTAMP;VALUE=DATE-TIME:20260421T102537Z
UID:68e76c8144934613aeb60c862f7a160f@fabit.unibo.it
CREATED;VALUE=DATE-TIME:20191121T101615Z
DESCRIPTION:FONDAMENTI DI INTELLIGENCE PER LA RICERCA E L’ANALISI DELLE 
 INFORMAZIONI 
LAST-MODIFIED;VALUE=DATE-TIME:20191121T110446Z
URL:https://fabit.unibo.it/it/eventi/presentazione-corso-di-formazione-per
 manente-a.a.-2019-2020
END:VEVENT
BEGIN:VTIMEZONE
TZID:Europe/Rome
X-LIC-LOCATION:Europe/Rome
BEGIN:STANDARD
DTSTART;VALUE=DATE-TIME:20191027T020000
TZNAME:CET
TZOFFSETFROM:+0200
TZOFFSETTO:+0100
END:STANDARD
END:VTIMEZONE
END:VCALENDAR
