BEGIN:VCALENDAR
VERSION:2.0
PRODID:-//Plone.org//NONSGML plone.app.event//EN
X-WR-TIMEZONE:Europe/Rome
BEGIN:VEVENT
SUMMARY:Key Considerations for Deploying AI-Based Tools in Clinical Settin
 gs: The Case of Pathogenicity Predictors
DTSTART;TZID=Europe/Rome;VALUE=DATE-TIME:20241008T150000
DTEND;TZID=Europe/Rome;VALUE=DATE-TIME:20241008T170000
DTSTAMP;VALUE=DATE-TIME:20260425T223942Z
UID:0317542af00f4945aac64486c8905fd5@fabit.unibo.it
CREATED;VALUE=DATE-TIME:20240925T155920Z
DESCRIPTION:​Prof. ​Xavier De La Cruz\, Group Leader - Vall Hebron Ins
 titut de Recerca (ospite di Prof. Emidio Capriotti)
LAST-MODIFIED;VALUE=DATE-TIME:20240925T160023Z
URL:https://fabit.unibo.it/it/eventi/key-considerations-for-deploying-ai-b
 ased-tools-in-clinical-settings
END:VEVENT
BEGIN:VTIMEZONE
TZID:Europe/Rome
X-LIC-LOCATION:Europe/Rome
BEGIN:DAYLIGHT
DTSTART;VALUE=DATE-TIME:20240331T030000
TZNAME:CEST
TZOFFSETFROM:+0100
TZOFFSETTO:+0200
END:DAYLIGHT
END:VTIMEZONE
END:VCALENDAR
