BEGIN:VCALENDAR
VERSION:2.0
PRODID:-//Plone.org//NONSGML plone.app.event//EN
X-WR-TIMEZONE:Europe/Rome
BEGIN:VEVENT
SUMMARY:GET BIOPHYSICAL CHARACTERIZATION OF BIOMOLECULES WITH OUR TOOLS
DTSTART;TZID=Europe/Rome;VALUE=DATE-TIME:20220630T143000
DTEND;TZID=Europe/Rome;VALUE=DATE-TIME:20220630T170000
DTSTAMP;VALUE=DATE-TIME:20260422T221323Z
UID:7763fcdb302447abb74a9862ea28f657@fabit.unibo.it
CREATED;VALUE=DATE-TIME:20220624T074446Z
DESCRIPTION:Workshop della Alfatech
LAST-MODIFIED;VALUE=DATE-TIME:20220624T075620Z
URL:https://fabit.unibo.it/it/eventi/get-biophysical-characterization-of-b
 iomolecules-with-our-tools
END:VEVENT
BEGIN:VTIMEZONE
TZID:Europe/Rome
X-LIC-LOCATION:Europe/Rome
BEGIN:DAYLIGHT
DTSTART;VALUE=DATE-TIME:20220327T030000
TZNAME:CEST
TZOFFSETFROM:+0100
TZOFFSETTO:+0200
END:DAYLIGHT
END:VTIMEZONE
END:VCALENDAR
