BEGIN:VCALENDAR
VERSION:2.0
PRODID:-//Plone.org//NONSGML plone.app.event//EN
X-WR-TIMEZONE:Europe/Rome
BEGIN:VEVENT
SUMMARY:FROM PROTEIN-LIGAND INTERACTIONS TO PROTEIN REGULATION: INSIGHTS F
 ROM MOLECULAR DYNAMICS SIMULATIONS
DTSTART;TZID=Europe/Rome;VALUE=DATE-TIME:20220920T143000
DTEND;TZID=Europe/Rome;VALUE=DATE-TIME:20220920T160000
DTSTAMP;VALUE=DATE-TIME:20260420T113032Z
UID:51982f908e444b3397a55be665b996e8@fabit.unibo.it
CREATED;VALUE=DATE-TIME:20220826T091752Z
DESCRIPTION:Seminario tenuto dal Dott. Alessio Bartocci dell'Università d
 i Strasburgo\, Francia\n(Ospite Prof. Francesco Musiani)
LAST-MODIFIED;VALUE=DATE-TIME:20220826T092208Z
URL:https://fabit.unibo.it/it/eventi/from-protein-ligand-interactions-to-p
 rotein-regulation-insights-from-molecular-dynamics-simulations
END:VEVENT
BEGIN:VTIMEZONE
TZID:Europe/Rome
X-LIC-LOCATION:Europe/Rome
BEGIN:DAYLIGHT
DTSTART;VALUE=DATE-TIME:20220327T030000
TZNAME:CEST
TZOFFSETFROM:+0100
TZOFFSETTO:+0200
END:DAYLIGHT
END:VTIMEZONE
END:VCALENDAR
