BEGIN:VCALENDAR
VERSION:2.0
PRODID:-//Plone.org//NONSGML plone.app.event//EN
X-WR-TIMEZONE:Europe/Rome
BEGIN:VEVENT
SUMMARY:"FINANZIARE LA RICERCA PER LA SALUTE 2020": IL CONTRIBUTO DELLA FO
 NDAZIONE DEL MONTE DI BOLOGNA E RAVENNA
DTSTART;TZID=Europe/Rome;VALUE=DATE-TIME:20200222T090000
DTEND;TZID=Europe/Rome;VALUE=DATE-TIME:20200222T130000
DTSTAMP;VALUE=DATE-TIME:20260425T214834Z
UID:f664b81431b145029ca522176e3ed2eb@fabit.unibo.it
CREATED;VALUE=DATE-TIME:20200218T150450Z
DESCRIPTION:Presentazione dei Progetti di Ricerca
LAST-MODIFIED;VALUE=DATE-TIME:20200218T152328Z
URL:https://fabit.unibo.it/it/eventi/finanziare-la-ricerca-per-la-salute-2
 020
END:VEVENT
BEGIN:VTIMEZONE
TZID:Europe/Rome
X-LIC-LOCATION:Europe/Rome
BEGIN:STANDARD
DTSTART;VALUE=DATE-TIME:20191027T020000
TZNAME:CET
TZOFFSETFROM:+0200
TZOFFSETTO:+0100
END:STANDARD
END:VTIMEZONE
END:VCALENDAR
