BEGIN:VCALENDAR
VERSION:2.0
PRODID:-//Plone.org//NONSGML plone.app.event//EN
X-WR-TIMEZONE:Europe/Rome
BEGIN:VEVENT
SUMMARY:Farmaci e contraffazione: sfide e opportunità
DTSTART;TZID=Europe/Rome;VALUE=DATE-TIME:20210524T090000
DTEND;TZID=Europe/Rome;VALUE=DATE-TIME:20210524T133000
DTSTAMP;VALUE=DATE-TIME:20260425T131042Z
UID:ed4dced68abe4c838f5b072f8ae26b8c@fabit.unibo.it
CREATED;VALUE=DATE-TIME:20210520T120927Z
DESCRIPTION:Corsi di Laurea in Chimica e Tecnologia Farmaceutiche (CTF) e 
 Farmacia (studenti iscritti al 4° anno)
LAST-MODIFIED;VALUE=DATE-TIME:20210520T121359Z
URL:https://fabit.unibo.it/it/eventi/farmaci-e-contraffazione-sfide-e-oppo
 rtunita
END:VEVENT
BEGIN:VTIMEZONE
TZID:Europe/Rome
X-LIC-LOCATION:Europe/Rome
BEGIN:DAYLIGHT
DTSTART;VALUE=DATE-TIME:20210328T030000
TZNAME:CEST
TZOFFSETFROM:+0100
TZOFFSETTO:+0200
END:DAYLIGHT
END:VTIMEZONE
END:VCALENDAR
