BEGIN:VCALENDAR
VERSION:2.0
PRODID:-//Plone.org//NONSGML plone.app.event//EN
X-WR-TIMEZONE:Europe/Rome
BEGIN:VEVENT
SUMMARY:FaBiT e Ciamician: oggi e domani
DTSTART;TZID=Europe/Rome;VALUE=DATE-TIME:20251003T133000
DTEND;TZID=Europe/Rome;VALUE=DATE-TIME:20251003T180000
DTSTAMP;VALUE=DATE-TIME:20260419T171135Z
UID:69dbe9502f6743b5ae6347f634e67662@fabit.unibo.it
CREATED;VALUE=DATE-TIME:20250929T093406Z
DESCRIPTION:Giornata di incontro tra i Dipartimenti FaBiT e Chimica “G. 
 Ciamician” con presentazione delle collaborazioni scientifiche e delle a
 ttività di ricerca dei gruppi dipartimentali
LAST-MODIFIED;VALUE=DATE-TIME:20251003T055829Z
URL:https://fabit.unibo.it/it/eventi/fabit-e-ciamician-oggi-e-domani
END:VEVENT
BEGIN:VTIMEZONE
TZID:Europe/Rome
X-LIC-LOCATION:Europe/Rome
BEGIN:DAYLIGHT
DTSTART;VALUE=DATE-TIME:20250330T030000
TZNAME:CEST
TZOFFSETFROM:+0100
TZOFFSETTO:+0200
END:DAYLIGHT
END:VTIMEZONE
END:VCALENDAR
