BEGIN:VCALENDAR
VERSION:2.0
PRODID:-//Plone.org//NONSGML plone.app.event//EN
X-WR-TIMEZONE:Europe/Rome
BEGIN:VEVENT
SUMMARY:DOPING E ANTIDOPING NELLO SPORT
DTSTART;TZID=Europe/Rome;VALUE=DATE-TIME:20200625T100000
DTEND;TZID=Europe/Rome;VALUE=DATE-TIME:20200625T123000
DTSTAMP;VALUE=DATE-TIME:20260425T224050Z
UID:35cab0656a4149d0a0985af2fb8e0911@fabit.unibo.it
CREATED;VALUE=DATE-TIME:20200623T145136Z
DESCRIPTION:Attività didattiche previste per il Master di II livello in A
 nalisi Chimiche e Chimico-Tossicologiche Forensi a.a. 2019-2020.
LAST-MODIFIED;VALUE=DATE-TIME:20200623T150423Z
URL:https://fabit.unibo.it/it/eventi/doping-e-antidoping-nello-sport
END:VEVENT
BEGIN:VTIMEZONE
TZID:Europe/Rome
X-LIC-LOCATION:Europe/Rome
BEGIN:DAYLIGHT
DTSTART;VALUE=DATE-TIME:20200329T030000
TZNAME:CEST
TZOFFSETFROM:+0100
TZOFFSETTO:+0200
END:DAYLIGHT
END:VTIMEZONE
END:VCALENDAR
