BEGIN:VCALENDAR
VERSION:2.0
PRODID:-//Plone.org//NONSGML plone.app.event//EN
X-WR-TIMEZONE:Europe/Rome
BEGIN:VEVENT
SUMMARY:DNA assembly technologies. Insights on the fundamental toolkit for
  synthetic biology
DTSTART;TZID=Europe/Rome;VALUE=DATE-TIME:20220505T090000
DTEND;TZID=Europe/Rome;VALUE=DATE-TIME:20220505T130000
DTSTAMP;VALUE=DATE-TIME:20260422T173523Z
UID:98d1a954dc49430884f10aa4f959fe7d@fabit.unibo.it
CREATED;VALUE=DATE-TIME:20220504T080830Z
DESCRIPTION:Il Dott. Dario Cecchi (ospite Prof.ssa Martina Cappelletti)\nt
 errà un seminario teorico/pratico dal titolo:\n“DNA assembly technologi
 es. Insights on the fundamental toolkit for synthetic biology"
LAST-MODIFIED;VALUE=DATE-TIME:20220504T081633Z
URL:https://fabit.unibo.it/it/eventi/dna-assembly-technologies-insights-on
 -the-fundamental-toolkit-for-synthetic-biology
END:VEVENT
BEGIN:VTIMEZONE
TZID:Europe/Rome
X-LIC-LOCATION:Europe/Rome
BEGIN:DAYLIGHT
DTSTART;VALUE=DATE-TIME:20220327T030000
TZNAME:CEST
TZOFFSETFROM:+0100
TZOFFSETTO:+0200
END:DAYLIGHT
END:VTIMEZONE
END:VCALENDAR
