BEGIN:VCALENDAR
VERSION:2.0
PRODID:-//Plone.org//NONSGML plone.app.event//EN
X-WR-TIMEZONE:Europe/Rome
BEGIN:VEVENT
SUMMARY:Advanced 3D bioprinting technique for the development of in vitro 
 cancer models
DTSTART;TZID=Europe/Rome;VALUE=DATE-TIME:20241105T140000
DTEND;TZID=Europe/Rome;VALUE=DATE-TIME:20241105T160000
DTSTAMP;VALUE=DATE-TIME:20260425T214851Z
UID:56659499f70a425cac129b1c6564a8e5@fabit.unibo.it
CREATED;VALUE=DATE-TIME:20240621T090313Z
DESCRIPTION:Emma Coschina\, PhD candidate in Cellular and Molecular Biolog
 y at the University of Bologna (ospite di Dr.ssa Gloria Ravegnini)
LAST-MODIFIED;VALUE=DATE-TIME:20240903T130622Z
URL:https://fabit.unibo.it/it/eventi/advanced-3d-bioprinting-technique-for
 -the-development-of-in-vitro-cancer-models
END:VEVENT
BEGIN:VTIMEZONE
TZID:Europe/Rome
X-LIC-LOCATION:Europe/Rome
BEGIN:STANDARD
DTSTART;VALUE=DATE-TIME:20241027T020000
TZNAME:CET
TZOFFSETFROM:+0200
TZOFFSETTO:+0100
END:STANDARD
END:VTIMEZONE
END:VCALENDAR
